Workbook

Sheet Header Definition
A3: Year: | B3: This is the year of the record (4 digit).
A15: Total:

Sheet Description
A1: Title: | B1: PENENTUAN HALA KIBLAT NEGARA BRUNEI DARUSSALAM
A3: Description: | B3: PENGUKURAN PENENTUAN HALA KIBLAT DARI TAHUN 2020-2023
A5: Methodology: | B5: MENGGUNAKAN DUA KAEDAH IAITU TERABAS DAN MAGNETIK UTARA
A7: Number of sample: | B7: PERSENDIRIAN, BERKELOMPOK, FASA, KERAJAAN DAN SWASTA
A9: Limitation: | B9: BEKELOMPOK TERHAD KEPADA 10 PEMOHON (SATU SIMPANG/ KAWASAN YANG SAMA)
A11: Gap: | B11: MENGIKUT GILIRAN

Sheet 2020
A1: TAHUN 2020 | B1: PERSENDIRIAN | C1: BERKELOMPOK | D1: KERAJAAN | E1: SWASTA | F1: BERFASA (BANGUNAN, MASJID & SURAU | G1: JUMLAH
A2: Jan | B2: 13 | C2: 3 | D2: 0 | E2: 2 | F2: 0 | G2: =SUM(B2:F2) -> 18
A3: Feb | B3: 8 | C3: 0 | D3: 5 | E3: 2 | F3: 0 | G3: =SUM(B3:F3) -> 15
A4: Mac | B4: 7 | C4: 1 | D4: 2 | E4: 2 | F4: 0 | G4: =SUM(B4:F4) -> 12
A5: Apr | B5: =2+2 -> 4 | C5: =0+1 -> 1 | D5: 1 | E5: =0+1 -> 1 | F5: 0 | G5: =SUM(B5:F5) -> 7
A6: Mei | B6: =14+1 -> 15 | C6: =1+0 -> 1 | D6: =15 -> 15 | E6: =0+0 -> 0 | F6: 0 | G6: =SUM(B6:F6) -> 31
A7: Jun | B7: =7+5 -> 12 | C7: =0+4 -> 4 | D7: =13 -> 13 | E7: =1+0 -> 1 | F7: 0 | G7: =SUM(B7:F7) -> 30
A8: Jul | B8: =7+4 -> 11 | C8: =0+1 -> 1 | D8: =12 -> 12 | E8: =0+1 -> 1 | F8: 0 | G8: =SUM(B8:F8) -> 25
A9: Ogs | B9: =5+1 -> 6 | C9: =0+4 -> 4 | D9: =2 -> 2 | E9: =0+2 -> 2 | F9: 0 | G9: =SUM(B9:F9) -> 14
A10: Sep | B10: =5+11 -> 16 | C10: =1+4 -> 5 | D10: =9 -> 9 | E10: =0+3 -> 3 | F10: 0 | G10: =SUM(B10:F10) -> 33
A11: Okt | B11: =3+3 -> 6 | C11: =1+1 -> 2 | D11: 13 | E11: =0 -> 0 | F11: 0 | G11: =SUM(B11:F11) -> 21
A12: Nov | B12: =1+9 -> 10 | C12: =0+0 -> 0 | D12: =0 -> 0 | E12: =0+0 -> 0 | F12: 0 | G12: =SUM(B12:F12) -> 10
A13: Dis | B13: 13 | C13: =1+1 -> 2 | D13: 4 | E13: 2 | F13: 0 | G13: =SUM(B13:F13) -> 21
A14: JUMLAH | B14: =SUM(B2:B13) -> 121 | C14: =SUM(C2:C13) -> 24 | D14: =SUM(D2:D13) -> 76 | E14: =SUM(E2:E13) -> 16 | F14: =SUM(F2:F13) -> 0 | G14: =SUM(G2:G13) -> 237

Sheet 2021
A1: TAHUN 2021 | B1: PERSENDIRIAN | C1: BERKELOMPOK | D1: KERAJAAN | E1: SWASTA | F1: BERFASA (BANGUNAN, MASJID & SURAU | G1: JUMLAH
A2: Jan | B2: =9 -> 9 | C2: 2 | D2: 10 | E2: 2 | F2: 0 | G2: =SUM(B2:F2) -> 23
A3: Feb | B3: 5 | C3: 2 | D3: 3 | E3: 2 | F3: 0 | G3: =SUM(B3:F3) -> 12
A4: Mac | B4: 7 | C4: 1 | D4: 2 | E4: 2 | F4: 0 | G4: =SUM(B4:F4) -> 12
A5: Apr | B5: 12 | C5: 1 | D5: 9 | E5: 1 | F5: 1 | G5: =SUM(B5:F5) -> 24
A6: Mei | B6: 6 | C6: 1 | D6: 0 | E6: 2 | F6: 0 | G6: =SUM(B6:F6) -> 9
A7: Jun | B7: 6 | C7: 1 | D7: 8 | E7: 3 | F7: 1 | G7: =SUM(B7:F7) -> 19
A8: Jul | B8: 2 | C8: 0 | D8: 0 | E8: 1 | F8: 0 | G8: =SUM(B8:F8) -> 3
A9: Ogs | B9: 0 | C9: 0 | D9: 3 | E9: 1 | F9: 0 | G9: =SUM(B9:F9) -> 4
A10: Sep | B10: 1 | C10: 0 | D10: 3 | E10: 1 | F10: 0 | G10: =SUM(B10:F10) -> 5
A11: Okt | B11: 5 | C11: 1 | D11: 0 | E11: 0 | F11: 0 | G11: =SUM(B11:F11) -> 6
A12: Nov | B12: 6 | C12: 1 | D12: 1 | E12: 1 | F12: 1 | G12: =SUM(B12:F12) -> 10
A13: Dis | B13: 12 | C13: 2 | D13: 0 | E13: 1 | F13: 1 | G13: =SUM(B13:F13) -> 16
A14: JUMLAH | B14: =SUM(B2:B13) -> 71 | C14: =SUM(C2:C13) -> 12 | D14: =SUM(D2:D13) -> 39 | E14: =SUM(E2:E13) -> 17 | F14: =SUM(F2:F13) -> 4 | G14: =SUM(G2:G13) -> 143

Sheet 2022
A1: TAHUN 2022 | B1: PERSENDIRIAN | C1: BERKELOMPOK | D1: KERAJAAN | E1: SWASTA | F1: BERFASA (BANGUNAN, MASJID & SURAU | G1: JUMLAH
A2: Jan | B2: 6 | C2: 2 | D2: 1 | E2: 2 | G2: =SUM(B2:F2) -> 11
A3: Feb | B3: 5 | C3: 1 | G3: =SUM(B3:F3) -> 6
A4: Mac | B4: 12 | C4: 1 | D4: 1 | E4: 2 | G4: =SUM(B4:F4) -> 16
A5: Apr | B5: 4 | C5: 1 | D5: 1 | G5: =SUM(B5:F5) -> 6
A6: Mei | B6: 4 | G6: =SUM(B6:F6) -> 4
A7: Jun | B7: 4 | D7: 5 | E7: 2 | G7: =SUM(B7:F7) -> 11
A8: Jul | B8: 1 | D8: 3 | E8: 1 | G8: =SUM(B8:F8) -> 5
A9: Ogs | B9: 2 | D9: 4 | G9: =SUM(B9:F9) -> 6
A10: Sep | B10: 6 | C10: 1 | E10: 2 | G10: =SUM(B10:F10) -> 9
A11: Okt | B11: 4 | D11: 2 | E11: 1 | G11: =SUM(B11:F11) -> 7
A12: Nov | B12: 6 | D12: 3 | G12: =SUM(B12:F12) -> 9
A13: Dis | B13: 1 | D13: 1 | F13: 2 | G13: =SUM(B13:F13) -> 4
A14: JUMLAH | B14: =SUM(B2:B13) -> 55 | C14: =SUM(C2:C13) -> 6 | D14: =SUM(D2:D13) -> 21 | E14: =SUM(E2:E13) -> 10 | F14: =SUM(F2:F13) -> 2 | G14: =SUM(G2:G13) -> 94

Sheet 2023
A1: TAHUN 2023 | B1: PERSENDIRIAN | C1: BERKELOMPOK | D1: KERAJAAN | E1: SWASTA | F1: BERFASA (BANGUNAN, MASJID & SURAU | G1: JUMLAH
A2: Jan | B2: 11 | G2: =SUM(B2:F2) -> 11
A3: Feb | B3: 10 | E3: 6 | G3: =SUM(B3:F3) -> 16
A4: Mac | B4: 8 | C4: 1 | D4: 2 | E4: 3 | G4: =SUM(B4:F4) -> 14
A5: Apr | B5: 15 | D5: 2 | E5: 4 | G5: =SUM(B5:F5) -> 21
A6: Mei | B6: 7 | D6: 1 | E6: 2 | G6: =SUM(B6:F6) -> 10
A7: Jun | B7: 7 | C7: 1 | D7: 1 | G7: =SUM(B7:F7) -> 9
A8: Jul | B8: 9 | D8: 3 | F8: 1 | G8: =SUM(B8:F8) -> 13
A9: Ogs | B9: 8 | D9: 1 | E9: 1 | G9: =SUM(B9:F9) -> 10
A10: Sep | B10: 3 | C10: 2 | E10: 1 | G10: =SUM(B10:F10) -> 6
A11: Okt | B11: 5 | E11: 1 | F11: 1 | G11: =SUM(B11:F11) -> 7
A12: Nov | B12: 4 | D12: 5 | G12: =SUM(B12:F12) -> 9
A13: Dis | B13: 6 | D13: 4 | E13: 1 | G13: =SUM(B13:F13) -> 11
A14: JUMLAH | B14: =SUM(B2:B13) -> 93 | C14: =SUM(C2:C13) -> 4 | D14: =SUM(D2:D13) -> 19 | E14: =SUM(E2:E13) -> 19 | F14: =SUM(F2:F13) -> 2 | G14: =SUM(G2:G13) -> 137

Sheet 2024
A1: TAHUN 2024 | B1: PERSENDIRIAN | C1: BERKELOMPOK | D1: KERAJAAN | E1: SWASTA | F1: BERFASA (BANGUNAN, MASJID & SURAU | G1: DAIF/FAKIR DAN MISKIN | H1: MUALLAF | I1: KHAS | J1: TAMBAHAN PELEKAT | K1: JUMLAH
A2: Jan | B2: 8 | C2: 1 | D2: 0 | E2: 2 | F2: 0 | G2: 0 | H2: 0 | I2: 0 | J2: 0 | K2: =SUM(B2:J2) -> 11
A3: Feb | B3: 2 | C3: 1 | D3: 1 | E3: 0 | F3: 0 | G3: 0 | H3: 0 | I3: 0 | J3: 0 | K3: =SUM(B3:J3) -> 4
A4: Mac | B4: 8 | C4: 3 | D4: 0 | E4: 2 | F4: 1 | G4: 0 | H4: 0 | I4: 0 | J4: 0 | K4: =SUM(B4:J4) -> 14
A5: Apr | B5: 8 | C5: 0 | D5: 1 | E5: 0 | F5: 0 | G5: 0 | H5: 3 | I5: 0 | J5: 0 | K5: =SUM(B5:J5) -> 12
A6: Mei | B6: 4 | C6: 0 | D6: 0 | E6: 1 | F6: 0 | G6: 0 | H6: 0 | I6: 0 | J6: 0 | K6: =SUM(B6:J6) -> 5
A7: Jun | B7: 11 | C7: 0 | D7: 0 | E7: 2 | F7: 0 | G7: 0 | H7: 2 | I7: 0 | J7: 1 | K7: =SUM(B7:J7) -> 16
A8: Jul | B8: 4 | C8: 4 | D8: 0 | E8: 0 | F8: 0 | G8: 0 | H8: 0 | I8: 4 | J8: 1 | K8: =SUM(B8:J8) -> 13
A9: Ogs | B9: 5 | C9: 4 | D9: 0 | E9: 1 | F9: 0 | G9: 0 | H9: 0 | I9: 0 | J9: 1 | K9: =SUM(B9:J9) -> 11
A10: Sep | B10: 4 | C10: 2 | D10: 0 | E10: 0 | F10: 0 | G10: 0 | H10: 1 | I10: 0 | J10: 1 | K10: =SUM(B10:J10) -> 8
A11: Okt | B11: 5 | C11: 1 | D11: 1 | E11: 5 | F11: 0 | G11: 0 | H11: 0 | I11: 0 | J11: 0 | K11: =SUM(B11:J11) -> 12
A12: Nov | B12: 7 | C12: 0 | D12: 2 | E12: 1 | F12: 0 | G12: 0 | H12: 0 | I12: 0 | J12: 2 | K12: =SUM(B12:J12) -> 12
A13: Dis | B13: 12 | C13: 12 | D13: 0 | E13: 1 | F13: 0 | G13: 0 | H13: 1 | I13: 0 | J13: 2 | K13: =SUM(B13:J13) -> 28
A14: JUMLAH | B14: =SUM(B2:B13) -> 78 | C14: =SUM(C2:C13) -> 28 | D14: =SUM(D2:D13) -> 5 | E14: =SUM(E2:E13) -> 15 | F14: =SUM(F2:F13) -> 1 | G14: =SUM(G2:G13) -> 0 | H14: =SUM(H2:H13) -> 7 | I14: =SUM(I2:I13) -> 4 | ... K14: =SUM(K2:K13) -> 146

Sheet RUMUSAN PERMOHONA HK 2020-2024
A1: TAHUN | B1: PERSENDIRIAN | C1: BERKELOMPOK | D1: KERAJAAN | E1: SWASTA | F1: BERFASA (BANGUNAN, MASJID & SURAU) | G1: TAHUN
A2: 2020 | B2: ='2020'!B14 -> 121 | C2: ='2020'!C14 -> 24 | D2: ='2020'!D14 -> 76 | E2: ='2020'!E14 -> 16 | F2: ='2020'!F14 -> 0 | G2: =SUM(B2:F2) -> 237
A3: 2021 | B3: ='2021'!B14 -> 71 | C3: ='2021'!C14 -> 12 | D3: ='2021'!D14 -> 39 | E3: ='2021'!E14 -> 17 | F3: ='2021'!F14 -> 4 | G3: =SUM(B3:F3) -> 143
A4: 2022 | B4: ='2022'!B14 -> 55 | C4: ='2022'!C14 -> 6 | D4: ='2022'!D14 -> 21 | E4: ='2022'!E14 -> 10 | F4: ='2022'!F14 -> 2 | G4: =SUM(B4:F4) -> 94
A5: 2023 | B5: ='2023'!B14 -> 93 | C5: ='2023'!C14 -> 4 | D5: ='2023'!D14 -> 19 | E5: ='2023'!E14 -> 19 | F5: ='2023'!F14 -> 2 | G5: =SUM(B5:F5) -> 137
A6: 2024 | B6: ='2024'!B14 -> 78 | C6: ='2024'!C14 -> 28 | D6: ='2024'!D14 -> 5 | E6: ='2024'!E14 -> 15 | F6: ='2024'!F14 -> 1 | G6: =SUM(B6:F6) -> 127
A8: JUMLAH | B8: =SUM(B2:B7) -> 418 | C8: =SUM(C2:C7) -> 74 | D8: =SUM(D2:D7) -> 160 | E8: =SUM(E2:E7) -> 77 | F8: =SUM(F2:F7) -> 9 | G8: =G2+G3+G4+G5+G6+G7 -> 738
H46: 0

Sheet Sheet1
